BEGIN:VCALENDAR
VERSION:2.0
PRODID:-//Folklore Society of Greater Washington - ECPv6.15.20//NONSGML v1.0//EN
CALSCALE:GREGORIAN
METHOD:PUBLISH
X-ORIGINAL-URL:https://wp.fsgw2.org
X-WR-CALDESC:Events for Folklore Society of Greater Washington
REFRESH-INTERVAL;VALUE=DURATION:PT1H
X-Robots-Tag:noindex
X-PUBLISHED-TTL:PT1H
BEGIN:VTIMEZONE
TZID:America/New_York
BEGIN:DAYLIGHT
TZOFFSETFROM:-0500
TZOFFSETTO:-0400
TZNAME:EDT
DTSTART:20230312T070000
END:DAYLIGHT
BEGIN:STANDARD
TZOFFSETFROM:-0400
TZOFFSETTO:-0500
TZNAME:EST
DTSTART:20231105T060000
END:STANDARD
BEGIN:DAYLIGHT
TZOFFSETFROM:-0500
TZOFFSETTO:-0400
TZNAME:EDT
DTSTART:20240310T070000
END:DAYLIGHT
BEGIN:STANDARD
TZOFFSETFROM:-0400
TZOFFSETTO:-0500
TZNAME:EST
DTSTART:20241103T060000
END:STANDARD
BEGIN:DAYLIGHT
TZOFFSETFROM:-0500
TZOFFSETTO:-0400
TZNAME:EDT
DTSTART:20250309T070000
END:DAYLIGHT
BEGIN:STANDARD
TZOFFSETFROM:-0400
TZOFFSETTO:-0500
TZNAME:EST
DTSTART:20251102T060000
END:STANDARD
END:VTIMEZONE
BEGIN:VEVENT
DTSTART;TZID=America/New_York:20240503T200000
DTEND;TZID=America/New_York:20240503T230000
DTSTAMP:20260421T122705
CREATED:20240429T060841Z
LAST-MODIFIED:20240503T161937Z
UID:38-1714766400-1714777200@wp.fsgw2.org
SUMMARY:Friday Night Contra and Square Dance: Kappy Laning calling with Snapdragon
DESCRIPTION:Contra dance in the Spanish Ballroom at Glen Echo Park\, Glen Echo\, MD. Co-sponsored by Friday Night Dancers and FSGW. \nCaller: Kappy Laning \nBand: Snapdragon (Dave Wiesler on piano\, Miranda Weinberg on fiddle\, Carrie Rose on the flute) \nAll dances will be taught. \nLesson at 7:30pm\, Dance is at 8:00pm. \n  \nCOVID info: masks and vaccinations encouraged but not required. More info \nRegistration is required of all participants. Pre-registration is preferred – you may pay online or wait to pay at the door. You may register at the door. Cash and credit card are accepted at the door. Registrations may be cancelled prior to the event\, and any payment will be refunded as a credit for future use. No refunds will be available after the event has started.
URL:https://wp.fsgw2.org/event/friday-night-dance-friday-may-3-2024/
LOCATION:Glen Echo Park Spanish Ballroom\, Glen Echo\, MD\, United States
CATEGORIES:Contradance
END:VEVENT
END:VCALENDAR