BEGIN:VCALENDAR
VERSION:2.0
PRODID:-//Folklore Society of Greater Washington - ECPv6.15.20//NONSGML v1.0//EN
CALSCALE:GREGORIAN
METHOD:PUBLISH
X-ORIGINAL-URL:https://wp.fsgw2.org
X-WR-CALDESC:Events for Folklore Society of Greater Washington
REFRESH-INTERVAL;VALUE=DURATION:PT1H
X-Robots-Tag:noindex
X-PUBLISHED-TTL:PT1H
BEGIN:VTIMEZONE
TZID:America/New_York
BEGIN:DAYLIGHT
TZOFFSETFROM:-0500
TZOFFSETTO:-0400
TZNAME:EDT
DTSTART:20230312T070000
END:DAYLIGHT
BEGIN:STANDARD
TZOFFSETFROM:-0400
TZOFFSETTO:-0500
TZNAME:EST
DTSTART:20231105T060000
END:STANDARD
BEGIN:DAYLIGHT
TZOFFSETFROM:-0500
TZOFFSETTO:-0400
TZNAME:EDT
DTSTART:20240310T070000
END:DAYLIGHT
BEGIN:STANDARD
TZOFFSETFROM:-0400
TZOFFSETTO:-0500
TZNAME:EST
DTSTART:20241103T060000
END:STANDARD
BEGIN:DAYLIGHT
TZOFFSETFROM:-0500
TZOFFSETTO:-0400
TZNAME:EDT
DTSTART:20250309T070000
END:DAYLIGHT
BEGIN:STANDARD
TZOFFSETFROM:-0400
TZOFFSETTO:-0500
TZNAME:EST
DTSTART:20251102T060000
END:STANDARD
END:VTIMEZONE
BEGIN:VEVENT
DTSTART;TZID=America/New_York:20240501T200000
DTEND;TZID=America/New_York:20240501T223000
DTSTAMP:20260421T174314
CREATED:20240429T062404Z
LAST-MODIFIED:20240429T063705Z
UID:47-1714593600-1714602600@wp.fsgw2.org
SUMMARY:English English country dance: Kappy Laning with Emily Aubrey\, Carrie Rose\, and Melissa Running
DESCRIPTION:
URL:https://wp.fsgw2.org/event/english-english-country-dance-kappy-laning-with-emily-aubrey-carrie-rose-and-melissa-running/
LOCATION:Glen Echo Town Hall\, 6106 Harvard Avenue\, Glen Echo\, 20812\, United States
CATEGORIES:English Country Dance
ORGANIZER;CN="FSGW":MAILTO:contact@fsgw.org
END:VEVENT
END:VCALENDAR